BEGIN:VCALENDAR
VERSION:2.0
PRODID:-//Night Lights Event - ECPv6.15.12.1//NONSGML v1.0//EN
CALSCALE:GREGORIAN
METHOD:PUBLISH
X-ORIGINAL-URL:https://cart.nightlightsevent.com
X-WR-CALDESC:Events for Night Lights Event
REFRESH-INTERVAL;VALUE=DURATION:PT1H
X-Robots-Tag:noindex
X-PUBLISHED-TTL:PT1H
BEGIN:VTIMEZONE
TZID:America/Los_Angeles
BEGIN:DAYLIGHT
TZOFFSETFROM:-0800
TZOFFSETTO:-0700
TZNAME:PDT
DTSTART:20210314T100000
END:DAYLIGHT
BEGIN:STANDARD
TZOFFSETFROM:-0700
TZOFFSETTO:-0800
TZNAME:PST
DTSTART:20211107T090000
END:STANDARD
BEGIN:DAYLIGHT
TZOFFSETFROM:-0800
TZOFFSETTO:-0700
TZNAME:PDT
DTSTART:20220313T100000
END:DAYLIGHT
BEGIN:STANDARD
TZOFFSETFROM:-0700
TZOFFSETTO:-0800
TZNAME:PST
DTSTART:20221106T090000
END:STANDARD
BEGIN:DAYLIGHT
TZOFFSETFROM:-0800
TZOFFSETTO:-0700
TZNAME:PDT
DTSTART:20230312T100000
END:DAYLIGHT
BEGIN:STANDARD
TZOFFSETFROM:-0700
TZOFFSETTO:-0800
TZNAME:PST
DTSTART:20231105T090000
END:STANDARD
END:VTIMEZONE
BEGIN:VEVENT
DTSTART;TZID=America/Los_Angeles:20220508T160000
DTEND;TZID=America/Los_Angeles:20220508T220000
DTSTAMP:20260422T104215
CREATED:20211119T000311Z
LAST-MODIFIED:20221128T000819Z
UID:311-1652025600-1652047200@cart.nightlightsevent.com
SUMMARY:Stateline Speedway - 2022
DESCRIPTION:Stateline Speedway\n\n\n\n\n\n\n\n\n\n\n\n\n\n\n\n\nA beautiful setting that is fun for the entire family. Located in Kootenai County\, Idaho\, MØDE Stadium Stateline Speedway is 30 minutes east of Spokane\, just 10 minutes outside of Post Falls\, 20 minutes from Coeur d’Alene\, 2.5 hours from Lewiston\, ID\, and 3 hours from Missoula\, MT.  \n\nView Full Event Info\n\n\n\n\n\n\n\n\n\n\n\n\n\n\n\n\n\n\n\n\n\n\n\n\n\n\n\n\n\n\n\n\n\n\n\n\n\n\n\n\n\n\n\n\n\n\n\n\n\n\n\n\n\n\n\n\n\n\n\n\n\n\n\n\n\n\n\n\n\n\n\n\n\n\n\n\n\n\n\n\n\n\n\n\n\n\n\n\n\n\n\n\n\n\n\n\n\n\n\nAbout Night Lights Event\n\n\n\nInspired by the traditional Thai Lantern Festival\, Night Lights is an all-new and completely reimagined sky lantern experience. Join thousands of your friends\, family\, and neighbors as we come together to make a truly once-in-a-lifetime memory as we launch our lanterns just after dusk. \n\n\n\nYou don’t have to travel across the world to find yourself. Magic can be found right in your backyard. We can’t wait to light the night skies with you.
URL:https://cart.nightlightsevent.com/event/stateline-speedway-2022/
LOCATION:MØDE Stadium Stateline Speedway\, 1349 N Beck Rd.\, Post Falls\, ID\, 83854\, United States
CATEGORIES:Stateline Speedway
ATTACH;FMTTYPE=image/jpeg:https://cart.nightlightsevent.com/wp-content/uploads/2021/11/nl-featured-stateline-speedway.jpg
END:VEVENT
END:VCALENDAR