BEGIN:VCALENDAR
VERSION:2.0
PRODID:-//Night Lights Event - ECPv6.15.12.1//NONSGML v1.0//EN
CALSCALE:GREGORIAN
METHOD:PUBLISH
X-WR-CALNAME:Night Lights Event
X-ORIGINAL-URL:https://cart.nightlightsevent.com
X-WR-CALDESC:Events for Night Lights Event
REFRESH-INTERVAL;VALUE=DURATION:PT1H
X-Robots-Tag:noindex
X-PUBLISHED-TTL:PT1H
BEGIN:VTIMEZONE
TZID:America/New_York
BEGIN:DAYLIGHT
TZOFFSETFROM:-0500
TZOFFSETTO:-0400
TZNAME:EDT
DTSTART:20230312T070000
END:DAYLIGHT
BEGIN:STANDARD
TZOFFSETFROM:-0400
TZOFFSETTO:-0500
TZNAME:EST
DTSTART:20231105T060000
END:STANDARD
BEGIN:DAYLIGHT
TZOFFSETFROM:-0500
TZOFFSETTO:-0400
TZNAME:EDT
DTSTART:20240310T070000
END:DAYLIGHT
BEGIN:STANDARD
TZOFFSETFROM:-0400
TZOFFSETTO:-0500
TZNAME:EST
DTSTART:20241103T060000
END:STANDARD
BEGIN:DAYLIGHT
TZOFFSETFROM:-0500
TZOFFSETTO:-0400
TZNAME:EDT
DTSTART:20250309T070000
END:DAYLIGHT
BEGIN:STANDARD
TZOFFSETFROM:-0400
TZOFFSETTO:-0500
TZNAME:EST
DTSTART:20251102T060000
END:STANDARD
END:VTIMEZONE
BEGIN:VEVENT
DTSTART;TZID=America/New_York:20240511T160000
DTEND;TZID=America/New_York:20240511T220000
DTSTAMP:20260420T161820
CREATED:20231114T060955Z
LAST-MODIFIED:20241103T175049Z
UID:285332-1715443200-1715464800@cart.nightlightsevent.com
SUMMARY:Stateline Speedway - 2024
DESCRIPTION:Night Lights\n\n\n\nStateline Speedway\n\n\n\n\n\n\n\n\n\n\n\n\nA beautiful setting that is fun for the entire family. Located in Kootenai County\, Idaho\, MØDE Stadium Stateline Speedway is 30 minutes east of Spokane\, just 10 minutes outside of Post Falls\, 20 minutes from Coeur d’Alene\, 2.5 hours from Lewiston\, ID\, and 3 hours from Missoula\, MT.  \n\n\n\nImportant: This is a weather dependent event. It may be necessary to reschedule the event\, if the weather/conditions do not permit. Night Lights has a no refund policy. Tickets are non-refundable — even if there is a reschedule — unless Ticket Protection is purchased at checkout. Read full policy here.  \n\n\n\n\nAll tickets are General Admission. Priority Entry is available at checkout.\n\n\n\nEach person entering the event (ages 7+) MUST have an admission ticket. Children 6 and under are free and do not require a ticket.\n\n\n\nWe do not offer ‘spectator passes’. A General Admission ticket is required to enter.\n\n\n\nEach ticket includes one (1) lantern\, one (1) prayer flag\, one (1) golden ticket and a lighter & marker for decorating. \n\n\n\nLanterns are biodegradable\, containing only bamboo\, string and rice paper.\n\n\n\nAdditional lanterns can be purchased once you arrive at the event.\n\n\n\nPrices and schedule are subject to change.\n\n\n\nPrice includes all fees + parking. Only tax is added at checkout.\n\n\n\nTickets will be available here for download 10 days before your event.\n\n\n\n\n\n\n\n\n\nView Full Event Info
URL:https://cart.nightlightsevent.com/event/stateline-speedway-2024/
LOCATION:MØDE Stadium Stateline Speedway\, 1349 N Beck Rd.\, Post Falls\, ID\, 83854\, United States
CATEGORIES:Stateline Speedway
ATTACH;FMTTYPE=image/jpeg:https://cart.nightlightsevent.com/wp-content/uploads/2023/11/NLE_featured-Stateline_Speedway.jpg
END:VEVENT
END:VCALENDAR