BEGIN:VCALENDAR
VERSION:2.0
PRODID:-//Night Lights Event - ECPv6.15.12.1//NONSGML v1.0//EN
CALSCALE:GREGORIAN
METHOD:PUBLISH
X-ORIGINAL-URL:https://cart.nightlightsevent.com
X-WR-CALDESC:Events for Night Lights Event
REFRESH-INTERVAL;VALUE=DURATION:PT1H
X-Robots-Tag:noindex
X-PUBLISHED-TTL:PT1H
BEGIN:VTIMEZONE
TZID:America/New_York
BEGIN:DAYLIGHT
TZOFFSETFROM:-0500
TZOFFSETTO:-0400
TZNAME:EDT
DTSTART:20220313T070000
END:DAYLIGHT
BEGIN:STANDARD
TZOFFSETFROM:-0400
TZOFFSETTO:-0500
TZNAME:EST
DTSTART:20221106T060000
END:STANDARD
BEGIN:DAYLIGHT
TZOFFSETFROM:-0500
TZOFFSETTO:-0400
TZNAME:EDT
DTSTART:20230312T070000
END:DAYLIGHT
BEGIN:STANDARD
TZOFFSETFROM:-0400
TZOFFSETTO:-0500
TZNAME:EST
DTSTART:20231105T060000
END:STANDARD
BEGIN:DAYLIGHT
TZOFFSETFROM:-0500
TZOFFSETTO:-0400
TZNAME:EDT
DTSTART:20240310T070000
END:DAYLIGHT
BEGIN:STANDARD
TZOFFSETFROM:-0400
TZOFFSETTO:-0500
TZNAME:EST
DTSTART:20241103T060000
END:STANDARD
END:VTIMEZONE
BEGIN:VEVENT
DTSTART;TZID=America/New_York:20230909T150000
DTEND;TZID=America/New_York:20230909T210000
DTSTAMP:20260422T124737
CREATED:20221122T060118Z
LAST-MODIFIED:20231112T030956Z
UID:136205-1694271600-1694293200@cart.nightlightsevent.com
SUMMARY:Pocono Raceway Fall 1 - 2023
DESCRIPTION:Pocono Raceway\n\n\n\nFall Event Night #1\n\n\n\n\n\n\n\n\n\n\n\n\n\n\n\n\nWe are excited to call the The Peak – Sports and Entertainment Complex our picture-perfect venue for your Night Lights experience. Located in Tooele County\, Utah\, The Peak is located 15 minutes outside of Tooele\, 40 minutes from Salt Lake City\, 1 hour from Provo and Ogden\, and 2 hours from Logan.  \n\nView Full Event Info\n\n\n\n\nView other dates at Pocono Raceway\n\n\n\nView other dates in Pennsylvania\n\n\n\n\n\n\n\n\n\n\n\n\n\n\n\n\n\n\n\n\n\n\n\n\n\n\n\n\n\n\n\n\n\n\n\n\n\n\n\n\n\n\n\n\n\n\n\n\n\n\n\n\n\n\n\n\n\n\n\n\n\n\n\n\n\n\n\n\n\n\n\n\n\n\n\n\n\n\n\n\n\n\n\n\n\n\n\n\n\n\n\n\n\n\n\n\n\n\n\n\n\n\n\n\nAbout Night Lights Event\n\n\n\nInspired by the traditional Thai Lantern Festival\, Night Lights is an all-new and completely reimagined sky lantern experience. Join thousands of your friends\, family\, and neighbors as we come together to make a truly once-in-a-lifetime memory as we launch our lanterns just after dusk. \n\n\n\nYou don’t have to travel across the world to find yourself. Magic can be found right in your backyard. We can’t wait to light the night skies with you.
URL:https://cart.nightlightsevent.com/event/pocono-raceway-f1-2023/
LOCATION:Pocono Raceway\, 1234 Long Pond Rd.\, Long Pond\, PA\, 18334\, United States
CATEGORIES:Pocono Raceway
ATTACH;FMTTYPE=image/jpeg:https://cart.nightlightsevent.com/wp-content/uploads/2021/11/nl-featured-pocono.jpg
END:VEVENT
BEGIN:VEVENT
DTSTART;TZID=America/New_York:20230916T150000
DTEND;TZID=America/New_York:20230916T210000
DTSTAMP:20260422T124737
CREATED:20221122T060123Z
LAST-MODIFIED:20231112T030923Z
UID:136241-1694876400-1694898000@cart.nightlightsevent.com
SUMMARY:Pocono Raceway Fall 3 - 2023
DESCRIPTION:Pocono Raceway\n\n\n\nFall Event Night #3\n\n\n\n\n\n\n\n\n\n\n\n\n\n\n\n\nWe are excited to call the The Peak – Sports and Entertainment Complex our picture-perfect venue for your Night Lights experience. Located in Tooele County\, Utah\, The Peak is located 15 minutes outside of Tooele\, 40 minutes from Salt Lake City\, 1 hour from Provo and Ogden\, and 2 hours from Logan.  \n\nView Full Event Info\n\n\n\n\nView other dates at Pocono Raceway\n\n\n\nView other dates in Pennsylvania\n\n\n\n\n\n\n\n\n\n\n\n\n\n\n\n\n\n\n\n\n\n\n\n\n\n\n\n\n\n\n\n\n\n\n\n\n\n\n\n\n\n\n\n\n\n\n\n\n\n\n\n\n\n\n\n\n\n\n\n\n\n\n\n\n\n\n\n\n\n\n\n\n\n\n\n\n\n\n\n\n\n\n\n\n\n\n\n\n\n\n\n\n\n\n\n\n\n\n\n\n\n\n\n\n\n\n\n\nAbout Night Lights Event\n\n\n\nInspired by the traditional Thai Lantern Festival\, Night Lights is an all-new and completely reimagined sky lantern experience. Join thousands of your friends\, family\, and neighbors as we come together to make a truly once-in-a-lifetime memory as we launch our lanterns just after dusk. \n\n\n\nYou don’t have to travel across the world to find yourself. Magic can be found right in your backyard. We can’t wait to light the night skies with you.
URL:https://cart.nightlightsevent.com/event/pocono-raceway-f3-2023/
LOCATION:Pocono Raceway\, 1234 Long Pond Rd.\, Long Pond\, PA\, 18334\, United States
CATEGORIES:Pocono Raceway
ATTACH;FMTTYPE=image/jpeg:https://cart.nightlightsevent.com/wp-content/uploads/2021/11/nl-featured-pocono.jpg
END:VEVENT
BEGIN:VEVENT
DTSTART;TZID=America/New_York:20230917T150000
DTEND;TZID=America/New_York:20230917T210000
DTSTAMP:20260422T124737
CREATED:20221122T060121Z
LAST-MODIFIED:20231112T030754Z
UID:136206-1694962800-1694984400@cart.nightlightsevent.com
SUMMARY:Pocono Raceway Fall 2 - 2023
DESCRIPTION:Pocono Raceway\n\n\n\nFall Event Night #2\n\n\n\n\n\n\n\n\n\n\n\n\n\n\n\n\nWe are excited to call the The Peak – Sports and Entertainment Complex our picture-perfect venue for your Night Lights experience. Located in Tooele County\, Utah\, The Peak is located 15 minutes outside of Tooele\, 40 minutes from Salt Lake City\, 1 hour from Provo and Ogden\, and 2 hours from Logan.  \n\nView Full Event Info\n\n\n\n\nView other dates at Pocono Raceway\n\n\n\nView other dates in Pennsylvania\n\n\n\n\n\n\n\n\n\n\n\n\n\n\n\n\n\n\n\n\n\n\n\n\n\n\n\n\n\n\n\n\n\n\n\n\n\n\n\n\n\n\n\n\n\n\n\n\n\n\n\n\n\n\n\n\n\n\n\n\n\n\n\n\n\n\n\n\n\n\n\n\n\n\n\n\n\n\n\n\n\n\n\n\n\n\n\n\n\n\n\n\n\n\n\n\n\n\n\n\n\n\n\n\n\n\n\n\nAbout Night Lights Event\n\n\n\nInspired by the traditional Thai Lantern Festival\, Night Lights is an all-new and completely reimagined sky lantern experience. Join thousands of your friends\, family\, and neighbors as we come together to make a truly once-in-a-lifetime memory as we launch our lanterns just after dusk. \n\n\n\nYou don’t have to travel across the world to find yourself. Magic can be found right in your backyard. We can’t wait to light the night skies with you.
URL:https://cart.nightlightsevent.com/event/pocono-raceway-f2-2023/
LOCATION:Pocono Raceway\, 1234 Long Pond Rd.\, Long Pond\, PA\, 18334\, United States
CATEGORIES:Pocono Raceway
ATTACH;FMTTYPE=image/jpeg:https://cart.nightlightsevent.com/wp-content/uploads/2021/11/nl-featured-pocono.jpg
END:VEVENT
END:VCALENDAR